BEGIN:VCALENDAR
VERSION:2.0
PRODID:-//ACES Races - ECPv6.15.20//NONSGML v1.0//EN
CALSCALE:GREGORIAN
METHOD:PUBLISH
X-ORIGINAL-URL:https://aces-races.com
X-WR-CALDESC:Events for ACES Races
REFRESH-INTERVAL;VALUE=DURATION:PT1H
X-Robots-Tag:noindex
X-PUBLISHED-TTL:PT1H
BEGIN:VTIMEZONE
TZID:UTC
BEGIN:STANDARD
TZOFFSETFROM:+0000
TZOFFSETTO:+0000
TZNAME:UTC
DTSTART:20250101T000000
END:STANDARD
END:VTIMEZONE
BEGIN:VEVENT
DTSTART;VALUE=DATE:20260607
DTEND;VALUE=DATE:20260608
DTSTAMP:20260421T130253
CREATED:20230124T180342Z
LAST-MODIFIED:20260120T182040Z
UID:3860-1780790400-1780876799@aces-races.com
SUMMARY:Dennisville Memorial Adventure Ride
DESCRIPTION:Event Flyer
URL:https://aces-races.com/event/dennisville-adventure-ride/
LOCATION:Hocking Valley Motorcycle Club Location\, 13121 Jake Tom Road\, Logan\, OH\, 43138\, United States
CATEGORIES:Adventure Ride
ATTACH;FMTTYPE=image/jpeg:https://aces-races.com/wp-content/uploads/2022/01/HVMClogo_720x575.jpg
END:VEVENT
END:VCALENDAR