BEGIN:VCALENDAR
VERSION:2.0
PRODID:-//ACES Races - ECPv6.15.20//NONSGML v1.0//EN
CALSCALE:GREGORIAN
METHOD:PUBLISH
X-WR-CALNAME:ACES Races
X-ORIGINAL-URL:https://aces-races.com
X-WR-CALDESC:Events for ACES Races
REFRESH-INTERVAL;VALUE=DURATION:PT1H
X-Robots-Tag:noindex
X-PUBLISHED-TTL:PT1H
BEGIN:VTIMEZONE
TZID:UTC
BEGIN:STANDARD
TZOFFSETFROM:+0000
TZOFFSETTO:+0000
TZNAME:UTC
DTSTART:20250101T000000
END:STANDARD
END:VTIMEZONE
BEGIN:VEVENT
DTSTART;VALUE=DATE:20260725
DTEND;VALUE=DATE:20260726
DTSTAMP:20260421T142924
CREATED:20250118T140033Z
LAST-MODIFIED:20260120T183950Z
UID:4333-1784937600-1785023999@aces-races.com
SUMMARY:Hardwoods Dual Sport & Adventure Ride
DESCRIPTION:Event Flyer | Pre-Entry Link
URL:https://aces-races.com/event/hardwoods-dual-sport/
LOCATION:Ohio Valley Trail Riders Location\, 724 Monroe St\, Bergholz\, OH\, 43908\, United States
CATEGORIES:Adventure Ride,Dual Sport
ATTACH;FMTTYPE=image/jpeg:https://aces-races.com/wp-content/uploads/2022/01/OVTRlogo_720x575.jpg
END:VEVENT
END:VCALENDAR