BEGIN:VCALENDAR
VERSION:2.0
PRODID:-//ACES Races - ECPv6.15.20//NONSGML v1.0//EN
CALSCALE:GREGORIAN
METHOD:PUBLISH
X-WR-CALNAME:ACES Races
X-ORIGINAL-URL:https://aces-races.com
X-WR-CALDESC:Events for ACES Races
REFRESH-INTERVAL;VALUE=DURATION:PT1H
X-Robots-Tag:noindex
X-PUBLISHED-TTL:PT1H
BEGIN:VTIMEZONE
TZID:UTC
BEGIN:STANDARD
TZOFFSETFROM:+0000
TZOFFSETTO:+0000
TZNAME:UTC
DTSTART:20250101T000000
END:STANDARD
END:VTIMEZONE
BEGIN:VEVENT
DTSTART;VALUE=DATE:20261011
DTEND;VALUE=DATE:20261012
DTSTAMP:20260423T145212
CREATED:20220113T003600Z
LAST-MODIFIED:20251210T192114Z
UID:3519-1791676800-1791763199@aces-races.com
SUMMARY:Covered Bridge Enduro
DESCRIPTION:Restart Format | Closed-course | Event Flyer
URL:https://aces-races.com/event/covered-bridge-enduro/
LOCATION:Muddobbers Motorcycle Club Location\, 11160 County Rd 990 E\, Upland\, IN\, 46989\, United States
CATEGORIES:Enduro
ATTACH;FMTTYPE=image/jpeg:https://aces-races.com/wp-content/uploads/2022/01/MMClogo_720x575.jpg
END:VEVENT
END:VCALENDAR