BEGIN:VCALENDAR
VERSION:2.0
PRODID:-//ACES Races - ECPv6.15.20//NONSGML v1.0//EN
CALSCALE:GREGORIAN
METHOD:PUBLISH
X-ORIGINAL-URL:https://aces-races.com
X-WR-CALDESC:Events for ACES Races
REFRESH-INTERVAL;VALUE=DURATION:PT1H
X-Robots-Tag:noindex
X-PUBLISHED-TTL:PT1H
BEGIN:VTIMEZONE
TZID:UTC
BEGIN:STANDARD
TZOFFSETFROM:+0000
TZOFFSETTO:+0000
TZNAME:UTC
DTSTART:20250101T000000
END:STANDARD
END:VTIMEZONE
BEGIN:VEVENT
DTSTART;VALUE=DATE:20260912
DTEND;VALUE=DATE:20260913
DTSTAMP:20260424T035922
CREATED:20221121T191429Z
LAST-MODIFIED:20260328T161858Z
UID:3799-1789171200-1789257599@aces-races.com
SUMMARY:Fallen Timbers Family Enduro
DESCRIPTION:Timekeeping Format | Event Flyer
URL:https://aces-races.com/event/fallen-timbers-family-enduro/
LOCATION:Toledo Trail Riders location\, 12414 Sager Rd\, Swanton\, OH\, 43558
CATEGORIES:Family Enduro
ATTACH;FMTTYPE=image/jpeg:https://aces-races.com/wp-content/uploads/2022/11/TTR-logo.jpeg
END:VEVENT
END:VCALENDAR