BEGIN:VCALENDAR
VERSION:2.0
PRODID:-//ACES Races - ECPv6.15.20//NONSGML v1.0//EN
CALSCALE:GREGORIAN
METHOD:PUBLISH
X-ORIGINAL-URL:https://aces-races.com
X-WR-CALDESC:Events for ACES Races
REFRESH-INTERVAL;VALUE=DURATION:PT1H
X-Robots-Tag:noindex
X-PUBLISHED-TTL:PT1H
BEGIN:VTIMEZONE
TZID:UTC
BEGIN:STANDARD
TZOFFSETFROM:+0000
TZOFFSETTO:+0000
TZNAME:UTC
DTSTART:20250101T000000
END:STANDARD
END:VTIMEZONE
BEGIN:VEVENT
DTSTART;VALUE=DATE:20260919
DTEND;VALUE=DATE:20260920
DTSTAMP:20260422T132921
CREATED:20220115T042146Z
LAST-MODIFIED:20260328T162019Z
UID:3550-1789776000-1789862399@aces-races.com
SUMMARY:Little Tomahawk Family Enduro
DESCRIPTION:Timekeeping Format | Event Flyer
URL:https://aces-races.com/event/little-tomahawk-family-enduro/
LOCATION:Treaty City Motorcycle Club Location\, 7270 Motorcycle Ct\, Greenville\, OH\, 45331\, United States
CATEGORIES:Family Enduro
ATTACH;FMTTYPE=image/jpeg:https://aces-races.com/wp-content/uploads/2022/01/TCMClogo_720x575.jpg
END:VEVENT
END:VCALENDAR